BEGIN:VCALENDAR
VERSION:2.0
PRODID:-//MOTO.MSC.CUP - ECPv6.15.20//NONSGML v1.0//EN
CALSCALE:GREGORIAN
METHOD:PUBLISH
X-WR-CALNAME:MOTO.MSC.CUP
X-ORIGINAL-URL:https://www.motomskcup.ru
X-WR-CALDESC:Мероприятия для MOTO.MSC.CUP
REFRESH-INTERVAL;VALUE=DURATION:PT1H
X-Robots-Tag:noindex
X-PUBLISHED-TTL:PT1H
BEGIN:VTIMEZONE
TZID:Europe/Moscow
BEGIN:STANDARD
TZOFFSETFROM:+0300
TZOFFSETTO:+0300
TZNAME:MSK
DTSTART:20220101T000000
END:STANDARD
END:VTIMEZONE
BEGIN:VEVENT
DTSTART;VALUE=DATE:20250829
DTEND;VALUE=DATE:20250902
DTSTAMP:20260423T005952
CREATED:20250707T082712Z
LAST-MODIFIED:20260113T180514Z
UID:1534-1756436400-1756695599@www.motomskcup.ru
SUMMARY:V этап MOTO.MSK.CUP\, 29-31 августа 2025\, Казаньринг
DESCRIPTION:
URL:https://www.motomskcup.ru/event/2025-stage-5/
LOCATION:КазаньРинг Каньон\, г. Казань\, Федеральная трасса\, М7\, 817км\, Казань\, Республика Татарстан\, Российская Федерация
ORGANIZER;CN="%D0%9E%D0%9E%D0%9E %C2%AB%D0%9A%D1%83%D0%B1%D0%BE%D0%BA %D0%9C%D0%BE%D1%82%D0%BE-%D0%9C%D0%A1%D0%9A%C2%BB":MAILTO:info@motomskcup.ru
END:VEVENT
BEGIN:VEVENT
DTSTART;VALUE=DATE:20250718
DTEND;VALUE=DATE:20250722
DTSTAMP:20260423T005952
CREATED:20250707T082521Z
LAST-MODIFIED:20260114T004322Z
UID:1529-1752807600-1753066799@www.motomskcup.ru
SUMMARY:III этап MOTO.MSK.CUP\, 18-20 июля 2025\, Казаньринг
DESCRIPTION:
URL:https://www.motomskcup.ru/event/2025-stage-3/
LOCATION:КазаньРинг Каньон\, г. Казань\, Федеральная трасса\, М7\, 817км\, Казань\, Республика Татарстан\, Российская Федерация
ORGANIZER;CN="%D0%9E%D0%9E%D0%9E %C2%AB%D0%9A%D1%83%D0%B1%D0%BE%D0%BA %D0%9C%D0%BE%D1%82%D0%BE-%D0%9C%D0%A1%D0%9A%C2%BB":MAILTO:info@motomskcup.ru
END:VEVENT
BEGIN:VEVENT
DTSTART;VALUE=DATE:20250523
DTEND;VALUE=DATE:20250527
DTSTAMP:20260423T005952
CREATED:20250310T112619Z
LAST-MODIFIED:20260114T004338Z
UID:1499-1747969200-1748228399@www.motomskcup.ru
SUMMARY:I этап MOTO.MSK.CUP\, Казаньринг\,  23-25 мая 2025
DESCRIPTION:
URL:https://www.motomskcup.ru/event/2025-stage-1/
LOCATION:КазаньРинг Каньон\, г. Казань\, Федеральная трасса\, М7\, 817км\, Казань\, Республика Татарстан\, Российская Федерация
ORGANIZER;CN="%D0%9E%D0%9E%D0%9E %C2%AB%D0%9A%D1%83%D0%B1%D0%BE%D0%BA %D0%9C%D0%BE%D1%82%D0%BE-%D0%9C%D0%A1%D0%9A%C2%BB":MAILTO:info@motomskcup.ru
END:VEVENT
BEGIN:VEVENT
DTSTART;VALUE=DATE:20240823
DTEND;VALUE=DATE:20240827
DTSTAMP:20260423T005952
CREATED:20240331T072528Z
LAST-MODIFIED:20260114T005629Z
UID:1441-1724382000-1724641199@www.motomskcup.ru
SUMMARY:V этап MOTO.MSK.CUP\, 23-25 августа 2024\, Казаньринг
DESCRIPTION:
URL:https://www.motomskcup.ru/event/2024-stage-5/
LOCATION:КазаньРинг Каньон\, г. Казань\, Федеральная трасса\, М7\, 817км\, Казань\, Республика Татарстан\, Российская Федерация
ORGANIZER;CN="%D0%9E%D0%9E%D0%9E %C2%AB%D0%9A%D1%83%D0%B1%D0%BE%D0%BA %D0%9C%D0%BE%D1%82%D0%BE-%D0%9C%D0%A1%D0%9A%C2%BB":MAILTO:info@motomskcup.ru
END:VEVENT
BEGIN:VEVENT
DTSTART;VALUE=DATE:20240705
DTEND;VALUE=DATE:20240709
DTSTAMP:20260423T005952
CREATED:20240330T101133Z
LAST-MODIFIED:20260114T012008Z
UID:1437-1720148400-1720407599@www.motomskcup.ru
SUMMARY:III этап MOTO.MSK.CUP\, 5-7 июля 2024\, Казаньринг
DESCRIPTION:
URL:https://www.motomskcup.ru/event/2024-stage-3/
LOCATION:КазаньРинг Каньон\, г. Казань\, Федеральная трасса\, М7\, 817км\, Казань\, Республика Татарстан\, Российская Федерация
ORGANIZER;CN="%D0%9E%D0%9E%D0%9E %C2%AB%D0%9A%D1%83%D0%B1%D0%BE%D0%BA %D0%9C%D0%BE%D1%82%D0%BE-%D0%9C%D0%A1%D0%9A%C2%BB":MAILTO:info@motomskcup.ru
END:VEVENT
BEGIN:VEVENT
DTSTART;VALUE=DATE:20230721
DTEND;VALUE=DATE:20230725
DTSTAMP:20260423T005952
CREATED:20230317T110522Z
LAST-MODIFIED:20231220T124633Z
UID:1097-1689908400-1690167599@www.motomskcup.ru
SUMMARY:IV этап MOTO.MSK.CUP\, 21-23 июля 2023\, Казаньринг
DESCRIPTION:https://www.youtube.com/watch?v=I758dJoEZXs
URL:https://www.motomskcup.ru/event/2023-stage-4/
LOCATION:КазаньРинг Каньон\, г. Казань\, Федеральная трасса\, М7\, 817км\, Казань\, Республика Татарстан\, Российская Федерация
ORGANIZER;CN="%D0%9E%D0%9E%D0%9E %C2%AB%D0%9A%D1%83%D0%B1%D0%BE%D0%BA %D0%9C%D0%BE%D1%82%D0%BE-%D0%9C%D0%A1%D0%9A%C2%BB":MAILTO:info@motomskcup.ru
END:VEVENT
BEGIN:VEVENT
DTSTART;VALUE=DATE:20230519
DTEND;VALUE=DATE:20230523
DTSTAMP:20260423T005952
CREATED:20230317T095719Z
LAST-MODIFIED:20231220T124530Z
UID:1071-1684465200-1684724399@www.motomskcup.ru
SUMMARY:I этап MOTO.MSK.CUP\, 19-21 мая 2023\, Казаньринг
DESCRIPTION:https://youtu.be/NGudSCnR0lI?si=V1zpC9xduDEykAqK
URL:https://www.motomskcup.ru/event/2023-stage-1/
LOCATION:КазаньРинг Каньон\, г. Казань\, Федеральная трасса\, М7\, 817км\, Казань\, Республика Татарстан\, Российская Федерация
ORGANIZER;CN="%D0%9E%D0%9E%D0%9E %C2%AB%D0%9A%D1%83%D0%B1%D0%BE%D0%BA %D0%9C%D0%BE%D1%82%D0%BE-%D0%9C%D0%A1%D0%9A%C2%BB":MAILTO:info@motomskcup.ru
END:VEVENT
END:VCALENDAR