BEGIN:VCALENDAR
VERSION:2.0
PRODID:-//MOTO.MSC.CUP - ECPv6.15.20//NONSGML v1.0//EN
CALSCALE:GREGORIAN
METHOD:PUBLISH
X-WR-CALNAME:MOTO.MSC.CUP
X-ORIGINAL-URL:https://www.motomskcup.ru
X-WR-CALDESC:Мероприятия для MOTO.MSC.CUP
REFRESH-INTERVAL;VALUE=DURATION:PT1H
X-Robots-Tag:noindex
X-PUBLISHED-TTL:PT1H
BEGIN:VTIMEZONE
TZID:Europe/Moscow
BEGIN:STANDARD
TZOFFSETFROM:+0300
TZOFFSETTO:+0300
TZNAME:MSK
DTSTART:20240101T000000
END:STANDARD
END:VTIMEZONE
BEGIN:VTIMEZONE
TZID:UTC
BEGIN:STANDARD
TZOFFSETFROM:+0000
TZOFFSETTO:+0000
TZNAME:UTC
DTSTART:20200101T000000
END:STANDARD
END:VTIMEZONE
BEGIN:VEVENT
DTSTART;VALUE=DATE:20250501
DTEND;VALUE=DATE:20250506
DTSTAMP:20260423T011453
CREATED:20250214T151511Z
LAST-MODIFIED:20260114T005557Z
UID:1485-1746068400-1746413999@www.motomskcup.ru
SUMMARY:Учебно-тренировочные сборы\, 1-4 мая 2025\, Нижегородское кольцо
DESCRIPTION:
URL:https://www.motomskcup.ru/event/2025-practie-1/
LOCATION:Нижегородское кольцо\, г. Нижний Новгород\, Нижегородское кольцо\, Богородск\, Российская Федерация
ORGANIZER;CN="%D0%9E%D0%9E%D0%9E %C2%AB%D0%9A%D1%83%D0%B1%D0%BE%D0%BA %D0%9C%D0%BE%D1%82%D0%BE-%D0%9C%D0%A1%D0%9A%C2%BB":MAILTO:info@motomskcup.ru
END:VEVENT
BEGIN:VEVENT
DTSTART;VALUE=DATE:20210501
DTEND;VALUE=DATE:20210505
DTSTAMP:20260423T011453
CREATED:20210222T123753Z
LAST-MODIFIED:20260113T184641Z
UID:46-1619838000-1620097199@www.motomskcup.ru
SUMMARY:Учебно-тренировочные сборы\, 1-3 мая 2021\, Нижегородское кольцо
DESCRIPTION:Стоимость указана за 1 день
URL:https://www.motomskcup.ru/event/2021-practice-1/
LOCATION:Нижегородское кольцо\, г. Нижний Новгород\, Нижегородское кольцо\, Богородск\, Российская Федерация
ATTACH;FMTTYPE=image/jpeg:https://www.motomskcup.ru/wp-content/uploads/2021/04/RRS_6323.jpg
END:VEVENT
END:VCALENDAR