BEGIN:VCALENDAR
VERSION:2.0
PRODID:-//MOTO.MSC.CUP - ECPv6.15.20//NONSGML v1.0//EN
CALSCALE:GREGORIAN
METHOD:PUBLISH
X-ORIGINAL-URL:https://www.motomskcup.ru
X-WR-CALDESC:Мероприятия для MOTO.MSC.CUP
REFRESH-INTERVAL;VALUE=DURATION:PT1H
X-Robots-Tag:noindex
X-PUBLISHED-TTL:PT1H
BEGIN:VTIMEZONE
TZID:Europe/Moscow
BEGIN:STANDARD
TZOFFSETFROM:+0300
TZOFFSETTO:+0300
TZNAME:MSK
DTSTART:20250101T000000
END:STANDARD
END:VTIMEZONE
BEGIN:VEVENT
DTSTART;TZID=Europe/Moscow:20260114T000000
DTEND;TZID=Europe/Moscow:20260114T000000
DTSTAMP:20260423T003513
CREATED:20250920T174115Z
LAST-MODIFIED:20260114T005517Z
UID:1673-1768348800-1768348800@www.motomskcup.ru
SUMMARY:Чемпионат Чеченской Республики 7 октября 2025\, Крепость Грозная
DESCRIPTION:Регламент Гонки Чемпионата Чеченской Республики\, 7 октября 2025г.
URL:https://www.motomskcup.ru/event/2025-championat-cr/
LOCATION:Чеченская Республика
END:VEVENT
END:VCALENDAR